BEGIN:VCALENDAR
VERSION:2.0
PRODID:-//Faschingsgesellschaft &quot;Die Brucker Gaßhenker&quot; 1970 e.V. - ECPv6.15.20//NONSGML v1.0//EN
CALSCALE:GREGORIAN
METHOD:PUBLISH
X-WR-CALNAME:Faschingsgesellschaft &quot;Die Brucker Gaßhenker&quot; 1970 e.V.
X-ORIGINAL-URL:https://www.gasshenker.de
X-WR-CALDESC:Veranstaltungen für Faschingsgesellschaft &quot;Die Brucker Gaßhenker&quot; 1970 e.V.
REFRESH-INTERVAL;VALUE=DURATION:PT1H
X-Robots-Tag:noindex
X-PUBLISHED-TTL:PT1H
BEGIN:VTIMEZONE
TZID:Europe/Berlin
BEGIN:DAYLIGHT
TZOFFSETFROM:+0100
TZOFFSETTO:+0200
TZNAME:CEST
DTSTART:20240331T010000
END:DAYLIGHT
BEGIN:STANDARD
TZOFFSETFROM:+0200
TZOFFSETTO:+0100
TZNAME:CET
DTSTART:20241027T010000
END:STANDARD
BEGIN:DAYLIGHT
TZOFFSETFROM:+0100
TZOFFSETTO:+0200
TZNAME:CEST
DTSTART:20250330T010000
END:DAYLIGHT
BEGIN:STANDARD
TZOFFSETFROM:+0200
TZOFFSETTO:+0100
TZNAME:CET
DTSTART:20251026T010000
END:STANDARD
BEGIN:DAYLIGHT
TZOFFSETFROM:+0100
TZOFFSETTO:+0200
TZNAME:CEST
DTSTART:20260329T010000
END:DAYLIGHT
BEGIN:STANDARD
TZOFFSETFROM:+0200
TZOFFSETTO:+0100
TZNAME:CET
DTSTART:20261025T010000
END:STANDARD
END:VTIMEZONE
BEGIN:VEVENT
DTSTART;VALUE=DATE:20250627
DTEND;VALUE=DATE:20250701
DTSTAMP:20260423T195641
CREATED:20250105T142921Z
LAST-MODIFIED:20250117T142846Z
UID:20720-1750982400-1751327999@www.gasshenker.de
SUMMARY:Brucker Kerwa
DESCRIPTION:
URL:https://www.gasshenker.de/termine/brucker-kerwa-2025/
LOCATION:Festplatz Bruck\, Felix-Klein-Straße\, Erlangen\, Bayern\, 91058\, Deutschland
CATEGORIES:Kerwa
ATTACH;FMTTYPE=image/png:https://www.gasshenker.de/wp-content/uploads/img_event_kerwa-1.png
END:VEVENT
END:VCALENDAR