BEGIN:VCALENDAR
VERSION:2.0
PRODID:-//Faschingsgesellschaft &quot;Die Brucker Gaßhenker&quot; 1970 e.V. - ECPv6.15.20//NONSGML v1.0//EN
CALSCALE:GREGORIAN
METHOD:PUBLISH
X-ORIGINAL-URL:https://www.gasshenker.de
X-WR-CALDESC:Veranstaltungen für Faschingsgesellschaft &quot;Die Brucker Gaßhenker&quot; 1970 e.V.
REFRESH-INTERVAL;VALUE=DURATION:PT1H
X-Robots-Tag:noindex
X-PUBLISHED-TTL:PT1H
BEGIN:VTIMEZONE
TZID:Europe/Berlin
BEGIN:DAYLIGHT
TZOFFSETFROM:+0100
TZOFFSETTO:+0200
TZNAME:CEST
DTSTART:20250330T010000
END:DAYLIGHT
BEGIN:STANDARD
TZOFFSETFROM:+0200
TZOFFSETTO:+0100
TZNAME:CET
DTSTART:20251026T010000
END:STANDARD
BEGIN:DAYLIGHT
TZOFFSETFROM:+0100
TZOFFSETTO:+0200
TZNAME:CEST
DTSTART:20260329T010000
END:DAYLIGHT
BEGIN:STANDARD
TZOFFSETFROM:+0200
TZOFFSETTO:+0100
TZNAME:CET
DTSTART:20261025T010000
END:STANDARD
BEGIN:DAYLIGHT
TZOFFSETFROM:+0100
TZOFFSETTO:+0200
TZNAME:CEST
DTSTART:20270328T010000
END:DAYLIGHT
BEGIN:STANDARD
TZOFFSETFROM:+0200
TZOFFSETTO:+0100
TZNAME:CET
DTSTART:20271031T010000
END:STANDARD
END:VTIMEZONE
BEGIN:VEVENT
DTSTART;TZID=Europe/Berlin:20260105T193000
DTEND;TZID=Europe/Berlin:20260105T193000
DTSTAMP:20260423T141136
CREATED:20250925T192010Z
LAST-MODIFIED:20251026T130628Z
UID:21453-1767641400-1767641400@www.gasshenker.de
SUMMARY:Prunksitzung
DESCRIPTION:
URL:https://www.gasshenker.de/termine/prunksitzung-2026/
LOCATION:Heinrich-Lades-Halle\, Rathausplatz 1\, Erlangen\, 91052
CATEGORIES:Fasching
ATTACH;FMTTYPE=image/png:https://www.gasshenker.de/wp-content/uploads/img-meldung_prunksitzung.png
END:VEVENT
END:VCALENDAR