BEGIN:VCALENDAR
VERSION:2.0
PRODID:-//Faschingsgesellschaft &quot;Die Brucker Gaßhenker&quot; 1970 e.V. - ECPv6.15.20//NONSGML v1.0//EN
CALSCALE:GREGORIAN
METHOD:PUBLISH
X-WR-CALNAME:Faschingsgesellschaft &quot;Die Brucker Gaßhenker&quot; 1970 e.V.
X-ORIGINAL-URL:https://www.gasshenker.de
X-WR-CALDESC:Veranstaltungen für Faschingsgesellschaft &quot;Die Brucker Gaßhenker&quot; 1970 e.V.
REFRESH-INTERVAL;VALUE=DURATION:PT1H
X-Robots-Tag:noindex
X-PUBLISHED-TTL:PT1H
BEGIN:VTIMEZONE
TZID:Europe/Berlin
BEGIN:DAYLIGHT
TZOFFSETFROM:+0100
TZOFFSETTO:+0200
TZNAME:CEST
DTSTART:20260329T010000
END:DAYLIGHT
BEGIN:STANDARD
TZOFFSETFROM:+0200
TZOFFSETTO:+0100
TZNAME:CET
DTSTART:20261025T010000
END:STANDARD
BEGIN:DAYLIGHT
TZOFFSETFROM:+0100
TZOFFSETTO:+0200
TZNAME:CEST
DTSTART:20270328T010000
END:DAYLIGHT
BEGIN:STANDARD
TZOFFSETFROM:+0200
TZOFFSETTO:+0100
TZNAME:CET
DTSTART:20271031T010000
END:STANDARD
BEGIN:DAYLIGHT
TZOFFSETFROM:+0100
TZOFFSETTO:+0200
TZNAME:CEST
DTSTART:20280326T010000
END:DAYLIGHT
BEGIN:STANDARD
TZOFFSETFROM:+0200
TZOFFSETTO:+0100
TZNAME:CET
DTSTART:20281029T010000
END:STANDARD
END:VTIMEZONE
BEGIN:VEVENT
DTSTART;TZID=Europe/Berlin:20270207T140000
DTEND;TZID=Europe/Berlin:20270207T160000
DTSTAMP:20260419T234529
CREATED:20260219T085704Z
LAST-MODIFIED:20260219T085704Z
UID:21706-1802008800-1802016000@www.gasshenker.de
SUMMARY:55. Brucker Faschingszug
DESCRIPTION:Der Brucker Faschingszug (oder örtlich auch „Gaudiwurm“ genannt) findet heuer zum nunmehr 55. Mal statt. Alljährlich dürfen wir an die 50.000 Besucher begrüßen die rechts und links am Straßenrand auf unzählige Musikgruppen und Vereine warten.
URL:https://www.gasshenker.de/termine/55-brucker-faschingszug/
LOCATION:Marktplatz Bruck\, Felix-Klein-Straße\, Erlangen\, 91058
CATEGORIES:Fasching
ATTACH;FMTTYPE=image/png:https://www.gasshenker.de/wp-content/uploads/Homepage-Infografiken.png
END:VEVENT
END:VCALENDAR