BEGIN:VCALENDAR
VERSION:2.0
PRODID:-//Faschingsgesellschaft &quot;Die Brucker Gaßhenker&quot; 1970 e.V. - ECPv6.15.20//NONSGML v1.0//EN
CALSCALE:GREGORIAN
METHOD:PUBLISH
X-ORIGINAL-URL:https://www.gasshenker.de
X-WR-CALDESC:Veranstaltungen für Faschingsgesellschaft &quot;Die Brucker Gaßhenker&quot; 1970 e.V.
REFRESH-INTERVAL;VALUE=DURATION:PT1H
X-Robots-Tag:noindex
X-PUBLISHED-TTL:PT1H
BEGIN:VTIMEZONE
TZID:Europe/Berlin
BEGIN:DAYLIGHT
TZOFFSETFROM:+0100
TZOFFSETTO:+0200
TZNAME:CEST
DTSTART:20240331T010000
END:DAYLIGHT
BEGIN:STANDARD
TZOFFSETFROM:+0200
TZOFFSETTO:+0100
TZNAME:CET
DTSTART:20241027T010000
END:STANDARD
BEGIN:DAYLIGHT
TZOFFSETFROM:+0100
TZOFFSETTO:+0200
TZNAME:CEST
DTSTART:20250330T010000
END:DAYLIGHT
BEGIN:STANDARD
TZOFFSETFROM:+0200
TZOFFSETTO:+0100
TZNAME:CET
DTSTART:20251026T010000
END:STANDARD
BEGIN:DAYLIGHT
TZOFFSETFROM:+0100
TZOFFSETTO:+0200
TZNAME:CEST
DTSTART:20260329T010000
END:DAYLIGHT
BEGIN:STANDARD
TZOFFSETFROM:+0200
TZOFFSETTO:+0100
TZNAME:CET
DTSTART:20261025T010000
END:STANDARD
END:VTIMEZONE
BEGIN:VEVENT
DTSTART;TZID=Europe/Berlin:20250209T140000
DTEND;TZID=Europe/Berlin:20250209T140000
DTSTAMP:20260424T044430
CREATED:20250117T141224Z
LAST-MODIFIED:20250117T141322Z
UID:20969-1739109600-1739109600@www.gasshenker.de
SUMMARY:Kinderfasching beim ATSV
DESCRIPTION:
URL:https://www.gasshenker.de/termine/kinderfasching-beim-atsv/
LOCATION:Gaststätte im ATSV Erlangen
CATEGORIES:Fasching
ATTACH;FMTTYPE=image/webp:https://www.gasshenker.de/wp-content/uploads/img_event_kinderfaschign.webp
END:VEVENT
END:VCALENDAR