BEGIN:VCALENDAR
VERSION:2.0
PRODID:-//Faschingsgesellschaft &quot;Die Brucker Gaßhenker&quot; 1970 e.V. - ECPv6.15.20//NONSGML v1.0//EN
CALSCALE:GREGORIAN
METHOD:PUBLISH
X-WR-CALNAME:Faschingsgesellschaft &quot;Die Brucker Gaßhenker&quot; 1970 e.V.
X-ORIGINAL-URL:https://www.gasshenker.de
X-WR-CALDESC:Veranstaltungen für Faschingsgesellschaft &quot;Die Brucker Gaßhenker&quot; 1970 e.V.
REFRESH-INTERVAL;VALUE=DURATION:PT1H
X-Robots-Tag:noindex
X-PUBLISHED-TTL:PT1H
BEGIN:VTIMEZONE
TZID:Europe/Berlin
BEGIN:DAYLIGHT
TZOFFSETFROM:+0100
TZOFFSETTO:+0200
TZNAME:CEST
DTSTART:20240331T010000
END:DAYLIGHT
BEGIN:STANDARD
TZOFFSETFROM:+0200
TZOFFSETTO:+0100
TZNAME:CET
DTSTART:20241027T010000
END:STANDARD
BEGIN:DAYLIGHT
TZOFFSETFROM:+0100
TZOFFSETTO:+0200
TZNAME:CEST
DTSTART:20250330T010000
END:DAYLIGHT
BEGIN:STANDARD
TZOFFSETFROM:+0200
TZOFFSETTO:+0100
TZNAME:CET
DTSTART:20251026T010000
END:STANDARD
BEGIN:DAYLIGHT
TZOFFSETFROM:+0100
TZOFFSETTO:+0200
TZNAME:CEST
DTSTART:20260329T010000
END:DAYLIGHT
BEGIN:STANDARD
TZOFFSETFROM:+0200
TZOFFSETTO:+0100
TZNAME:CET
DTSTART:20261025T010000
END:STANDARD
END:VTIMEZONE
BEGIN:VEVENT
DTSTART;TZID=Europe/Berlin:20250301T140000
DTEND;TZID=Europe/Berlin:20250301T173000
DTSTAMP:20260424T025114
CREATED:20250105T141630Z
LAST-MODIFIED:20250117T140847Z
UID:20716-1740837600-1740850200@www.gasshenker.de
SUMMARY:Kinderfasching
DESCRIPTION:
URL:https://www.gasshenker.de/termine/kinderfasching-2025/
LOCATION:Sporthalle der Eichendorffschule\, Buckenhofer Weg\, Erlangen\, 91058
CATEGORIES:Fasching
ATTACH;FMTTYPE=image/webp:https://www.gasshenker.de/wp-content/uploads/img_event_kinderfaschign.webp
END:VEVENT
BEGIN:VEVENT
DTSTART;TZID=Europe/Berlin:20250302T140000
DTEND;TZID=Europe/Berlin:20250302T160000
DTSTAMP:20260424T025114
CREATED:20241011T053421Z
LAST-MODIFIED:20250117T140821Z
UID:20533-1740924000-1740931200@www.gasshenker.de
SUMMARY:53. Brucker Faschingszug
DESCRIPTION:Der Brucker Faschingszug (oder örtlich auch „Gaudiwurm“ genannt) findet heuer zum nunmehr 53. Mal statt. Alljährlich dürfen wir an die 50.000 Besucher begrüßen die rechts und links am Straßenrand auf unzählige Musikgruppen und Vereine warten.
URL:https://www.gasshenker.de/termine/53-brucker-faschingszug/
LOCATION:Marktplatz Bruck\, Felix-Klein-Straße\, Erlangen\, 91058
CATEGORIES:Fasching
ATTACH;FMTTYPE=image/webp:https://www.gasshenker.de/wp-content/uploads/img_event_faschingszug.webp
END:VEVENT
BEGIN:VEVENT
DTSTART;TZID=Europe/Berlin:20250302T160000
DTEND;TZID=Europe/Berlin:20250302T230000
DTSTAMP:20260424T025114
CREATED:20250105T142018Z
LAST-MODIFIED:20250117T142350Z
UID:20718-1740931200-1740956400@www.gasshenker.de
SUMMARY:After-Zug-Party
DESCRIPTION:
URL:https://www.gasshenker.de/termine/after-zug-party-2025/
LOCATION:Sporthalle der Eichendorffschule\, Buckenhofer Weg\, Erlangen\, 91058
CATEGORIES:Fasching
ATTACH;FMTTYPE=image/png:https://www.gasshenker.de/wp-content/uploads/img_event_afterzugparty.png
END:VEVENT
BEGIN:VEVENT
DTSTART;TZID=Europe/Berlin:20250304T111100
DTEND;TZID=Europe/Berlin:20250304T130000
DTSTAMP:20260424T025114
CREATED:20250106T163047Z
LAST-MODIFIED:20250303T141521Z
UID:20742-1741086660-1741093200@www.gasshenker.de
SUMMARY:Faschingskehraus
DESCRIPTION:
URL:https://www.gasshenker.de/termine/faschingskehraus-2025/
LOCATION:Heinrich-Lades-Halle\, Rathausplatz 1\, Erlangen\, 91052
CATEGORIES:Fasching
ATTACH;FMTTYPE=image/png:https://www.gasshenker.de/wp-content/uploads/img_event_faschingskehraus.png
END:VEVENT
END:VCALENDAR