BEGIN:VCALENDAR
VERSION:2.0
PRODID:-//Faschingsgesellschaft &quot;Die Brucker Gaßhenker&quot; 1970 e.V. - ECPv6.15.20//NONSGML v1.0//EN
CALSCALE:GREGORIAN
METHOD:PUBLISH
X-WR-CALNAME:Faschingsgesellschaft &quot;Die Brucker Gaßhenker&quot; 1970 e.V.
X-ORIGINAL-URL:https://www.gasshenker.de
X-WR-CALDESC:Veranstaltungen für Faschingsgesellschaft &quot;Die Brucker Gaßhenker&quot; 1970 e.V.
REFRESH-INTERVAL;VALUE=DURATION:PT1H
X-Robots-Tag:noindex
X-PUBLISHED-TTL:PT1H
BEGIN:VTIMEZONE
TZID:Europe/Berlin
BEGIN:DAYLIGHT
TZOFFSETFROM:+0100
TZOFFSETTO:+0200
TZNAME:CEST
DTSTART:20240331T010000
END:DAYLIGHT
BEGIN:STANDARD
TZOFFSETFROM:+0200
TZOFFSETTO:+0100
TZNAME:CET
DTSTART:20241027T010000
END:STANDARD
BEGIN:DAYLIGHT
TZOFFSETFROM:+0100
TZOFFSETTO:+0200
TZNAME:CEST
DTSTART:20250330T010000
END:DAYLIGHT
BEGIN:STANDARD
TZOFFSETFROM:+0200
TZOFFSETTO:+0100
TZNAME:CET
DTSTART:20251026T010000
END:STANDARD
BEGIN:DAYLIGHT
TZOFFSETFROM:+0100
TZOFFSETTO:+0200
TZNAME:CEST
DTSTART:20260329T010000
END:DAYLIGHT
BEGIN:STANDARD
TZOFFSETFROM:+0200
TZOFFSETTO:+0100
TZNAME:CET
DTSTART:20261025T010000
END:STANDARD
END:VTIMEZONE
BEGIN:VEVENT
DTSTART;TZID=Europe/Berlin:20251108T191100
DTEND;TZID=Europe/Berlin:20251108T191100
DTSTAMP:20260423T123305
CREATED:20250925T191334Z
LAST-MODIFIED:20250925T192137Z
UID:21451-1762629060-1762629060@www.gasshenker.de
SUMMARY:Narrendämmerung
DESCRIPTION:Am 08. November 2025 starten die Brucker Gaßhenker wieder in die Fünfte Jahreszeit. \nSchauen Sie doch vorbei und freuen Sie sich auf einen unterhaltsamen Abend. \nDie traditionelle Narrendämmerung beginnt um 20.11 Uhr im SC Eltersdorf mit tänzerischen Kostproben aus dem neuen Programm 2026. Dazu werden Aktive für Ihr Engagement und langjährige Mitgliedschaft geehrt.
URL:https://www.gasshenker.de/termine/narrendaemmerung-2025/
LOCATION:SC Eltersdorf\, Langenaustraße 17\, Erlangen\, Bayern\, 91058\, Deutschland
CATEGORIES:Fasching
ATTACH;FMTTYPE=image/png:https://www.gasshenker.de/wp-content/uploads/2020/01/daemmerung_2300x1600.png
END:VEVENT
END:VCALENDAR