BEGIN:VCALENDAR
VERSION:2.0
PRODID:-//Faschingsgesellschaft &quot;Die Brucker Gaßhenker&quot; 1970 e.V. - ECPv6.15.20//NONSGML v1.0//EN
CALSCALE:GREGORIAN
METHOD:PUBLISH
X-WR-CALNAME:Faschingsgesellschaft &quot;Die Brucker Gaßhenker&quot; 1970 e.V.
X-ORIGINAL-URL:https://www.gasshenker.de
X-WR-CALDESC:Veranstaltungen für Faschingsgesellschaft &quot;Die Brucker Gaßhenker&quot; 1970 e.V.
REFRESH-INTERVAL;VALUE=DURATION:PT1H
X-Robots-Tag:noindex
X-PUBLISHED-TTL:PT1H
BEGIN:VTIMEZONE
TZID:Europe/Berlin
BEGIN:DAYLIGHT
TZOFFSETFROM:+0100
TZOFFSETTO:+0200
TZNAME:CEST
DTSTART:20250330T010000
END:DAYLIGHT
BEGIN:STANDARD
TZOFFSETFROM:+0200
TZOFFSETTO:+0100
TZNAME:CET
DTSTART:20251026T010000
END:STANDARD
BEGIN:DAYLIGHT
TZOFFSETFROM:+0100
TZOFFSETTO:+0200
TZNAME:CEST
DTSTART:20260329T010000
END:DAYLIGHT
BEGIN:STANDARD
TZOFFSETFROM:+0200
TZOFFSETTO:+0100
TZNAME:CET
DTSTART:20261025T010000
END:STANDARD
BEGIN:DAYLIGHT
TZOFFSETFROM:+0100
TZOFFSETTO:+0200
TZNAME:CEST
DTSTART:20270328T010000
END:DAYLIGHT
BEGIN:STANDARD
TZOFFSETFROM:+0200
TZOFFSETTO:+0100
TZNAME:CET
DTSTART:20271031T010000
END:STANDARD
END:VTIMEZONE
BEGIN:VEVENT
DTSTART;TZID=Europe/Berlin:20260214T140000
DTEND;TZID=Europe/Berlin:20260214T173000
DTSTAMP:20260419T160536
CREATED:20251216T113510Z
LAST-MODIFIED:20251216T113523Z
UID:21579-1771077600-1771090200@www.gasshenker.de
SUMMARY:Kinderfasching
DESCRIPTION:
URL:https://www.gasshenker.de/termine/kinderfasching-2026/
LOCATION:Sporthalle der Eichendorffschule\, Buckenhofer Weg\, Erlangen\, 91058
CATEGORIES:Fasching
ATTACH;FMTTYPE=image/webp:https://www.gasshenker.de/wp-content/uploads/img_event_kinderfaschign.webp
END:VEVENT
BEGIN:VEVENT
DTSTART;TZID=Europe/Berlin:20260215T140000
DTEND;TZID=Europe/Berlin:20260215T160000
DTSTAMP:20260419T160536
CREATED:20251103T055249Z
LAST-MODIFIED:20251210T081844Z
UID:21461-1771164000-1771171200@www.gasshenker.de
SUMMARY:54. Brucker Faschingszug
DESCRIPTION:Der Brucker Faschingszug (oder örtlich auch „Gaudiwurm“ genannt) findet heuer zum nunmehr 54. Mal statt. Alljährlich dürfen wir an die 50.000 Besucher begrüßen die rechts und links am Straßenrand auf unzählige Musikgruppen und Vereine warten.
URL:https://www.gasshenker.de/termine/54-brucker-faschingszug/
LOCATION:Marktplatz Bruck\, Felix-Klein-Straße\, Erlangen\, 91058
CATEGORIES:Fasching
ATTACH;FMTTYPE=image/png:https://www.gasshenker.de/wp-content/uploads/Homepage-Infografiken.png
END:VEVENT
BEGIN:VEVENT
DTSTART;TZID=Europe/Berlin:20260215T160000
DTEND;TZID=Europe/Berlin:20260215T230000
DTSTAMP:20260419T160536
CREATED:20260128T130219Z
LAST-MODIFIED:20260128T130330Z
UID:21672-1771171200-1771196400@www.gasshenker.de
SUMMARY:After-Zug-Party
DESCRIPTION:
URL:https://www.gasshenker.de/termine/after-zug-party-2026/
LOCATION:Sporthalle der Eichendorffschule\, Buckenhofer Weg\, Erlangen\, 91058
CATEGORIES:Fasching
ATTACH;FMTTYPE=image/png:https://www.gasshenker.de/wp-content/uploads/img_event_afterzugparty.png
END:VEVENT
END:VCALENDAR